BEGIN:VCALENDAR
VERSION:2.0
PRODID:-//Bettina Göschl - ECPv6.15.18//NONSGML v1.0//EN
CALSCALE:GREGORIAN
METHOD:PUBLISH
X-WR-CALNAME:Bettina Göschl
X-ORIGINAL-URL:https://bettinagoeschl.de
X-WR-CALDESC:Veranstaltungen für Bettina Göschl
REFRESH-INTERVAL;VALUE=DURATION:PT1H
X-Robots-Tag:noindex
X-PUBLISHED-TTL:PT1H
BEGIN:VTIMEZONE
TZID:Europe/Berlin
BEGIN:DAYLIGHT
TZOFFSETFROM:+0100
TZOFFSETTO:+0200
TZNAME:CEST
DTSTART:20250330T010000
END:DAYLIGHT
BEGIN:STANDARD
TZOFFSETFROM:+0200
TZOFFSETTO:+0100
TZNAME:CET
DTSTART:20251026T010000
END:STANDARD
BEGIN:DAYLIGHT
TZOFFSETFROM:+0100
TZOFFSETTO:+0200
TZNAME:CEST
DTSTART:20260329T010000
END:DAYLIGHT
BEGIN:STANDARD
TZOFFSETFROM:+0200
TZOFFSETTO:+0100
TZNAME:CET
DTSTART:20261025T010000
END:STANDARD
BEGIN:DAYLIGHT
TZOFFSETFROM:+0100
TZOFFSETTO:+0200
TZNAME:CEST
DTSTART:20270328T010000
END:DAYLIGHT
BEGIN:STANDARD
TZOFFSETFROM:+0200
TZOFFSETTO:+0100
TZNAME:CET
DTSTART:20271031T010000
END:STANDARD
END:VTIMEZONE
BEGIN:VEVENT
DTSTART;TZID=Europe/Berlin:20260423T193000
DTEND;TZID=Europe/Berlin:20260423T213000
DTSTAMP:20260420T153757
CREATED:20250807T192741Z
LAST-MODIFIED:20250807T192749Z
UID:7336-1776972600-1776979800@bettinagoeschl.de
SUMMARY:Krimilesung Aurich
DESCRIPTION:Musikalische Begleitung: Bettina Göschl und Heinz Edzards
URL:https://bettinagoeschl.de/termin/krimilesung-aurich/
LOCATION:Kino Aurich\, Emder Straße 5\, Aurich\, 26603
ATTACH;FMTTYPE=image/jpeg:https://bettinagoeschl.de/wp-content/uploads/2024/06/Klaus-Peter-Wolf-und-Bettina-Goeschl-4-Foto-Wolfgang-Wessling.jpg
END:VEVENT
BEGIN:VEVENT
DTSTART;TZID=Europe/Berlin:20260424T193000
DTEND;TZID=Europe/Berlin:20260424T213000
DTSTAMP:20260420T153757
CREATED:20250807T192942Z
LAST-MODIFIED:20250807T192942Z
UID:7339-1777059000-1777066200@bettinagoeschl.de
SUMMARY:Krimilesung Schwelm
DESCRIPTION:musikalische Begleitung Bettina Göschl \nEinlass 18.30 Uhr\, Beginn 19.30 Uhr \nInfo und Tickets gibt es hier: \nwww.leo-theater.ruhr
URL:https://bettinagoeschl.de/termin/krimilesung-schwelm/
LOCATION:LEO-Theater Schwelm\, Wilhelmstraße 41\, Schwelm\, 58332\, Deutschland
ATTACH;FMTTYPE=image/jpeg:https://bettinagoeschl.de/wp-content/uploads/2024/06/Klaus-Peter-Wolf-und-Bettina-Goeschl-4-Foto-Wolfgang-Wessling.jpg
END:VEVENT
BEGIN:VEVENT
DTSTART;TZID=Europe/Berlin:20260425T190000
DTEND;TZID=Europe/Berlin:20260425T210000
DTSTAMP:20260420T153757
CREATED:20250807T193116Z
LAST-MODIFIED:20250826T121156Z
UID:7343-1777143600-1777150800@bettinagoeschl.de
SUMMARY:Krimilesung Troisdorf
DESCRIPTION:Musikalische Begleitung Bettina Göschl \nWann: Samstag\, 25. April 2026 um 19.00 Uhr\, Einlass: 18.00 \nWo: Stadthalle Troisdorf\, Kölner Straße 167\, 53840 Troisdorf \nEintritt: 20\,80 Euro \nTicket-Hotline \n 02405/40860\nMo – Fr:  10 – 18 Uhr\nSa:           10 – 13 Uhr \n info@daskartenhaus.de \nTicket-Shop in der Stadthalle Troisdorf\nKölner Straße 167\n53840 Troisdorf \nÖffnungszeiten:\nMo – Fr.:   15 – 18 Uhr\nSa:             10 – 13 Uhr
URL:https://bettinagoeschl.de/termin/krimilesung-troisdorf/
LOCATION:Stadthalle Troisdorf\, Kölner Straße 167\, Troisdorf\, 53840
ATTACH;FMTTYPE=image/jpeg:https://bettinagoeschl.de/wp-content/uploads/2024/06/Klaus-Peter-Wolf-und-Bettina-Goeschl-4-Foto-Wolfgang-Wessling.jpg
END:VEVENT
BEGIN:VEVENT
DTSTART;TZID=Europe/Berlin:20260426T160000
DTEND;TZID=Europe/Berlin:20260426T170000
DTSTAMP:20260420T153757
CREATED:20250826T121108Z
LAST-MODIFIED:20250826T121108Z
UID:7455-1777219200-1777222800@bettinagoeschl.de
SUMMARY:Die Nordseedetektive/Die Schiffsgeister - Musikalische Lesung für Kinder und Familien ab 6 Jahren
DESCRIPTION:Klaus-Peter Wolf und Bettina Göschl nehmen ihr junges Publikum auf eine spannende und fantasievolle Reise an die Nordsee. Die Kinder machen Bekanntschaft mit den beiden Spürnasen Emma und Lukas\, die schon jede Menge Fälle gelöst haben. Magisch und lebendig zu gleich wird es mit den zwei Schiffsgeistern Fregaz und Faugaz\, die zwar in einer geheimnisvollen Flasche festsitzen\, aber dennoch jede Menge Blödsinn anstellen. \nFröhliche Lieder und spannende Geschichten wechseln sich ab. \nWann: Sonntag\, 26. April 2026 um 16.00 Uhr \nWo: Stadthalle Troisdorf\, Kölner Straße 167\, 53840 Troisdorf \nEintritt: 4\,70 Euro pro Person \nTicket-Hotline \n 02405/40860\nMo – Fr:  10 – 18 Uhr\nSa:           10 – 13 Uhr \n info@daskartenhaus.de \nTicket-Shop in der Stadthalle Troisdorf\nKölner Straße 167\n53840 Troisdorf \nÖffnungszeiten:\nMo – Fr.:   15 – 18 Uhr\nSa:             10 – 13 Uhr
URL:https://bettinagoeschl.de/termin/die-nordseedetektive-die-schiffsgeister-musikalische-lesung-fuer-kinder-und-familien-ab-6-jahren/
LOCATION:Stadthalle Troisdorf\, Kölner Straße 167\, Troisdorf\, 53840
CATEGORIES:Lieder und Geschichten
ATTACH;FMTTYPE=image/jpeg:https://bettinagoeschl.de/wp-content/uploads/2025/04/die-nordseedetektive-die-verhaftung-hoerbuch.jpg
ORGANIZER;CN="Stadthalle Troisdorf":MAILTO:info@daskartenhaus.de
END:VEVENT
BEGIN:VEVENT
DTSTART;VALUE=DATE:20260428
DTEND;VALUE=DATE:20260501
DTSTAMP:20260420T153757
CREATED:20250817T055526Z
LAST-MODIFIED:20250817T055526Z
UID:7428-1777334400-1777593599@bettinagoeschl.de
SUMMARY:Bücherkindergärten Bremerhaven
DESCRIPTION:Mit Liedern und Geschichten rund um den kleinen Drachen Paffi\, dem zauberhaften Einhorn und vielem mehr ist Bettina Göschl zu Gast in den Kindergärten in Bremerhaven. Organisiert wird das Projekt vom Friedrich-Bödecker-Kreis im Land Bremen e. V. \nDie Veranstaltungen finden an diesen Tagen statt: \nDie\, 28 April 2026 \nMi\, 29. April 2026 \nDo\, 30. April 2026
URL:https://bettinagoeschl.de/termin/buecherkindergaerten-bremerhaven/
CATEGORIES:Lesereisen
ATTACH;FMTTYPE=image/png:https://bettinagoeschl.de/wp-content/uploads/2023/03/kinderbuecher_2020-UZrjBZ.tmp_.png
END:VEVENT
BEGIN:VEVENT
DTSTART;TZID=Europe/Berlin:20260502T160000
DTEND;TZID=Europe/Berlin:20260502T180000
DTSTAMP:20260420T153757
CREATED:20260119T095428Z
LAST-MODIFIED:20260119T095428Z
UID:7792-1777737600-1777744800@bettinagoeschl.de
SUMMARY:Signierstunde Norden
DESCRIPTION:Gemeinsame Signierstunde mit Klaus-Peter Wolf und Bettina Göschl
URL:https://bettinagoeschl.de/termin/signierstunde-norden/
LOCATION:Krimimuseum Norden\, Gewerbestraße 25\, Norden\, 26506
ATTACH;FMTTYPE=image/jpeg:https://bettinagoeschl.de/wp-content/uploads/2024/06/Klaus-Peter-Wolf-und-Bettina-Goeschl-4-Foto-Wolfgang-Wessling.jpg
END:VEVENT
BEGIN:VEVENT
DTSTART;VALUE=DATE:20260511
DTEND;VALUE=DATE:20260513
DTSTAMP:20260420T153757
CREATED:20251122T055448Z
LAST-MODIFIED:20251122T055448Z
UID:7663-1778457600-1778630399@bettinagoeschl.de
SUMMARY:Musikalische Lesungen in Nienburg
DESCRIPTION:Mit vier musikalischen Lesungen ist Bettina Göschl zu Gast in Nienburg. \nWann: 11. und 12. Mai 2026\, jeweils 2 Veranstaltungen vormittags \nWo: Grundschule am Bach\, Waldstraße 2\, 31582 Nienburg/Weser
URL:https://bettinagoeschl.de/termin/musikalische-lesungen-in-nienburg/
LOCATION:Grundschule am Bach\, Waldstraße 2\, Nienburg\, Niedersachsen\, 31582\, Germany
CATEGORIES:Lesereisen
ATTACH;FMTTYPE=image/jpeg:https://bettinagoeschl.de/wp-content/uploads/2025/11/9783961295739_cmyk-scaled.jpg
END:VEVENT
BEGIN:VEVENT
DTSTART;TZID=Europe/Berlin:20260523T110000
DTEND;TZID=Europe/Berlin:20260523T120000
DTSTAMP:20260420T153757
CREATED:20251202T130401Z
LAST-MODIFIED:20251202T130912Z
UID:7711-1779534000-1779537600@bettinagoeschl.de
SUMMARY:Signierstunde bei Hugendubel
DESCRIPTION:Foto: Wolfgang Weßling \nBettina Göschl und Klaus-Peter Wolf signieren am Pfingstsamstag für Groß und Klein. \nWo: Buchhandlung Hugendubel\, Neuer Weg 107a\, 26506 Norden \nWann: Pfingstsamstag\, 23. Mai 2026 von 11 bis 12 Uhr
URL:https://bettinagoeschl.de/termin/signierstunde-bei-hugendubel/
LOCATION:Buchhandlung Hugendubel Neuer Weg Norden\, Neuer Weg 107a\, Norden\, 26506\, Germany
CATEGORIES:Signierstunden
ATTACH;FMTTYPE=image/jpeg:https://bettinagoeschl.de/wp-content/uploads/2024/06/Klaus-Peter-Wolf-und-Bettina-Goeschl-4-Foto-Wolfgang-Wessling.jpg
END:VEVENT
BEGIN:VEVENT
DTSTART;TZID=Europe/Berlin:20260530T110000
DTEND;TZID=Europe/Berlin:20260530T120000
DTSTAMP:20260420T153757
CREATED:20250807T193254Z
LAST-MODIFIED:20250807T193254Z
UID:7346-1780138800-1780142400@bettinagoeschl.de
SUMMARY:Signierstunde Norderney
DESCRIPTION:Gemeinsame Signierstunde von Klaus-Peter Wolf und Bettina Göschl
URL:https://bettinagoeschl.de/termin/signierstunde-norderney/
LOCATION:Thalia Buchhandlung Norderney\, Poststraße 12\, Norderney\, 26548
ATTACH;FMTTYPE=image/jpeg:https://bettinagoeschl.de/wp-content/uploads/2024/06/Klaus-Peter-Wolf-und-Bettina-Goeschl-4-Foto-Wolfgang-Wessling.jpg
END:VEVENT
BEGIN:VEVENT
DTSTART;TZID=Europe/Berlin:20260601T193000
DTEND;TZID=Europe/Berlin:20260601T220000
DTSTAMP:20260420T153757
CREATED:20260119T095817Z
LAST-MODIFIED:20260119T095817Z
UID:7794-1780342200-1780351200@bettinagoeschl.de
SUMMARY:Krimilesung Dinslaken
DESCRIPTION:Große Premierenlesung „Sommerfeldt Solo“ in Dinslaken! \nMusikalische Begleitung Bettina Göschl und Heinz Edzards \nBeginn: 19:30 Uhr\, Einlass: 18:00 Uhr \nVeranstaltungsort: Kathrin-Türks-Halle („Dinslakener Elbphilharmonie“) \n  \nTickets sind online unter \nhttps://www.reservix.de/tickets-klaus-peter-wolf-lesung-sommerfeldt-solo-in-dinslaken-kathrin-tuerks-halle-am-1-6-2026/e2491641 \nTicketshop DIN-EVENT – Klaus Peter Wolf – Lesung – Sommerfeldt Solo Tickets\, Kathrin-Türks-Halle\, 46535 Dinslaken – online bestellen \nund in der Stadtinformation Dinslaken am Rittertor\, Ritterstr. 1\, 46535 Dinslaken\, \nerhältlich.
URL:https://bettinagoeschl.de/termin/krimilesung-dinslaken/
LOCATION:Kathrin-Türks-Halle\, Platz D’Agen 4\, Dinslaken\, 46535
ATTACH;FMTTYPE=image/jpeg:https://bettinagoeschl.de/wp-content/uploads/2024/06/Klaus-Peter-Wolf-und-Bettina-Goeschl-4-Foto-Wolfgang-Wessling.jpg
END:VEVENT
BEGIN:VEVENT
DTSTART;TZID=Europe/Berlin:20260610T200000
DTEND;TZID=Europe/Berlin:20260610T220000
DTSTAMP:20260420T153757
CREATED:20260119T100031Z
LAST-MODIFIED:20260119T100031Z
UID:7796-1781121600-1781128800@bettinagoeschl.de
SUMMARY:Krimilesung Kahle Wart / Hüllhorst
DESCRIPTION:Klaus-Peter Wolf und Bettina Göschl auf der Freilichtbühne Kahle Wart \nBeginn 20 Uhr\, Einlass ab 18.30 Uhr \nUnter www.kahlewart.de oder folgenden Direktlink können Tickets erworben werden: https://kahlewart.reservix.de/p/reservix/event/2460148 \nDes Weiteren werden Tickets in der Bücherstube Lübbecke sowie „Das Buch“ in Rahden (beides Inhaber Herr Ölschläger) erhältlich sein.
URL:https://bettinagoeschl.de/termin/krimilesung-kahle-wart-huellhorst/
LOCATION:Freilichtbühne Kahle Wart\, Kahle-Wart-Straße 1\, Hüllhorst\, 32609
ATTACH;FMTTYPE=image/jpeg:https://bettinagoeschl.de/wp-content/uploads/2024/06/Klaus-Peter-Wolf-und-Bettina-Goeschl-4-Foto-Wolfgang-Wessling.jpg
END:VEVENT
BEGIN:VEVENT
DTSTART;TZID=Europe/Berlin:20260716T200000
DTEND;TZID=Europe/Berlin:20260716T220000
DTSTAMP:20260420T153757
CREATED:20260119T100301Z
LAST-MODIFIED:20260119T100326Z
UID:7800-1784232000-1784239200@bettinagoeschl.de
SUMMARY:Krimilesung Northeim
DESCRIPTION:musikalische Begleitung Bettina Göschl \nDetails zum Kartenverkauf folgen
URL:https://bettinagoeschl.de/termin/krimilesung-northeim/
LOCATION:Stadthalle Northeim\, Medenheimer Straße\, Northeim\, 37154
ATTACH;FMTTYPE=image/jpeg:https://bettinagoeschl.de/wp-content/uploads/2024/06/Klaus-Peter-Wolf-und-Bettina-Goeschl-4-Foto-Wolfgang-Wessling.jpg
END:VEVENT
BEGIN:VEVENT
DTSTART;TZID=Europe/Berlin:20260717T200000
DTEND;TZID=Europe/Berlin:20260717T220000
DTSTAMP:20260420T153757
CREATED:20260119T100502Z
LAST-MODIFIED:20260119T100523Z
UID:7802-1784318400-1784325600@bettinagoeschl.de
SUMMARY:Krimilesung Eime
DESCRIPTION:musikalische Begleitung Bettina Göschl \nDetails zum Kartenvorverkauf folgen
URL:https://bettinagoeschl.de/termin/krimilesung-eime/
LOCATION:Mehrzweckhalle Eime\, Hauptstraße 6\, Eime\, 31036
ATTACH;FMTTYPE=image/jpeg:https://bettinagoeschl.de/wp-content/uploads/2024/06/Klaus-Peter-Wolf-und-Bettina-Goeschl-4-Foto-Wolfgang-Wessling.jpg
END:VEVENT
BEGIN:VEVENT
DTSTART;TZID=Europe/Berlin:20260718T200000
DTEND;TZID=Europe/Berlin:20260718T220000
DTSTAMP:20260420T153757
CREATED:20260119T100704Z
LAST-MODIFIED:20260119T100704Z
UID:7806-1784404800-1784412000@bettinagoeschl.de
SUMMARY:Krimilesung Uelzen
DESCRIPTION:musikalische Begleitung Bettina Göschl und Nadia Birkenstock \nDetails folgen
URL:https://bettinagoeschl.de/termin/krimilesung-uelzen/
ATTACH;FMTTYPE=image/jpeg:https://bettinagoeschl.de/wp-content/uploads/2024/06/Klaus-Peter-Wolf-und-Bettina-Goeschl-4-Foto-Wolfgang-Wessling.jpg
END:VEVENT
BEGIN:VEVENT
DTSTART;TZID=Europe/Berlin:20260720T200000
DTEND;TZID=Europe/Berlin:20260720T220000
DTSTAMP:20260420T153757
CREATED:20250807T193418Z
LAST-MODIFIED:20250807T193418Z
UID:7349-1784577600-1784584800@bettinagoeschl.de
SUMMARY:Krimilesung Langeoog
DESCRIPTION:musikalische Begleitung Bettina Göschl
URL:https://bettinagoeschl.de/termin/krimilesung-langeoog/
LOCATION:Haus der Insel\, Kurstraße 1\, Langeoog\, Niedersachsen\, 26465\, Deutschland
ATTACH;FMTTYPE=image/jpeg:https://bettinagoeschl.de/wp-content/uploads/2024/06/Klaus-Peter-Wolf-und-Bettina-Goeschl-4-Foto-Wolfgang-Wessling.jpg
END:VEVENT
BEGIN:VEVENT
DTSTART;TZID=Europe/Berlin:20260721T170000
DTEND;TZID=Europe/Berlin:20260721T183000
DTSTAMP:20260420T153757
CREATED:20241205T085229Z
LAST-MODIFIED:20251122T054709Z
UID:6867-1784653200-1784658600@bettinagoeschl.de
SUMMARY:Musikalische Lesung: Die Schiffsgeister
DESCRIPTION:Illustration: Franziska Harvey \nMagie am Meer: Am Strand der Insel Langeoog finden Luna und Jonte eine alte\, von Muscheln bedeckte und fest verkorkte Flasche. Plastikmüll ist das nicht! Eine Flaschenpost vielleicht? Natürlich nehmen die Geschwister sie mit nach Hause. In der Nacht bemerken sie\, dass von dem Gefäß ein seltsames Leuchten ausgeht. Neugierig öffnen sie die Flasche – und machen Bekanntschaft mit zwei frechen Geistern\, die lange Zeit in der Flasche gefangen waren und nun ihre verschollenen Verwandten und Freunde aufspüren wollen. Das ist schwieriger als erwartet\, denn die neu gewonnene Freiheit ist nicht von Dauer. Und so beginnt ein Wettlauf gegen die Zeit. Hilft der verzauberte Zeitwürfel? \nIn ihrem neuen Programm lädt die Autorin und Liedermacherin Bettina Göschl alle ab 6 J. zum Lauschen\, Singen und Mitmachen ein.\nKarten: Tourist-Info/Haus der Insel: https://veranstaltung.langeoog.de/kalender/?&page=details&termin=17965 \nWann: Die\, 21. Juli 2026 um 17.00 Uhr \nWo: Haus der Insel\, Langeoog
URL:https://bettinagoeschl.de/termin/piratenschiffe-piratenschaetze-lieder-und-geschichten-fuer-kinder-und-familien-ab-4-jahren-9/
LOCATION:Haus der Insel Langeoog\, Kurstraße 1\, Langeoog\, 26465
CATEGORIES:Lieder und Geschichten
ATTACH;FMTTYPE=image/jpeg:https://bettinagoeschl.de/wp-content/uploads/2025/11/9783961295739_cmyk-scaled.jpg
END:VEVENT
BEGIN:VEVENT
DTSTART;TZID=Europe/Berlin:20260723T160000
DTEND;TZID=Europe/Berlin:20260723T180000
DTSTAMP:20260420T153757
CREATED:20250916T114155Z
LAST-MODIFIED:20250916T115925Z
UID:7521-1784822400-1784829600@bettinagoeschl.de
SUMMARY:Signierstunde mit Klaus-Peter Wolf und Bettina Göschl
DESCRIPTION:Signierstunde mit Klaus-Peter Wolf und Bettina Göschl \nWann:\nDonnerstag\, 23. Juli 2026\, 16 Uhr – 18 Uhr \nWo:\nKrimimuseum Norden\, Gewerbestraße 25\, 26506 Norden \nEintritt:\nfrei \nVeranstalter:\nWirtschaftsbetriebe der Stadt Norden GmbH Tourismus-Service Norden-Norddeich\nDörper Weg 22\n26506 Norden-Norddeich \nÖffnungszeiten: Montag – Freitag: 09:00 – 17:00 Uhr\, Samstag: 10:00 – 15:00 Uhr\,  Sonntag: 10:00 – 13:00 Uhr\nTelefon: (0 49 31) 986-200\nFax: (0 49 31) 986-290\nMail: info@‎norddeich.de
URL:https://bettinagoeschl.de/termin/signierstunde-mit-klaus-peter-wolf-und-bettina-goeschl/
LOCATION:Krimimuseum Norden\, Gewerbestraße 25\, Norden\, 26506
ATTACH;FMTTYPE=image/jpeg:https://bettinagoeschl.de/wp-content/uploads/2024/06/Klaus-Peter-Wolf-und-Bettina-Goeschl-4-Foto-Wolfgang-Wessling.jpg
ORGANIZER;CN="Tourismus-Service Norden-Norddeich":MAILTO:info@norddeich.de
END:VEVENT
BEGIN:VEVENT
DTSTART;TZID=Europe/Berlin:20260728T130000
DTEND;TZID=Europe/Berlin:20260728T150000
DTSTAMP:20260420T153757
CREATED:20250807T193658Z
LAST-MODIFIED:20250807T193658Z
UID:7351-1785243600-1785250800@bettinagoeschl.de
SUMMARY:Borkum – Signierstunde
DESCRIPTION:Gemeinsame Signierstunde von Klaus-Peter Wolf und Bettina Göschl
URL:https://bettinagoeschl.de/termin/borkum-signierstunde/
LOCATION:Strandpromenade Borkum\, Bürgermeister-Kieviet-Promenade 2\, Borkum\, 26757\, Deutschland
ATTACH;FMTTYPE=image/jpeg:https://bettinagoeschl.de/wp-content/uploads/2024/06/Klaus-Peter-Wolf-und-Bettina-Goeschl-4-Foto-Wolfgang-Wessling.jpg
END:VEVENT
BEGIN:VEVENT
DTSTART;TZID=Europe/Berlin:20260729T193000
DTEND;TZID=Europe/Berlin:20260729T213000
DTSTAMP:20260420T153757
CREATED:20250807T193847Z
LAST-MODIFIED:20250807T193847Z
UID:7353-1785353400-1785360600@bettinagoeschl.de
SUMMARY:Krimilesung Borkum
DESCRIPTION:musikalische Begleitung Bettina Göschl \nTickets: € 14\,50
URL:https://bettinagoeschl.de/termin/krimilesung-borkum-2/
LOCATION:Kulturinsel Borkum\, Goethestraße 25\, Borkum\, Niedersachsen\, 26757\, Deutschland
ATTACH;FMTTYPE=image/jpeg:https://bettinagoeschl.de/wp-content/uploads/2024/06/Klaus-Peter-Wolf-und-Bettina-Goeschl-4-Foto-Wolfgang-Wessling.jpg
END:VEVENT
BEGIN:VEVENT
DTSTART;TZID=Europe/Berlin:20260730T103000
DTEND;TZID=Europe/Berlin:20260730T113000
DTSTAMP:20260420T153757
CREATED:20250807T194113Z
LAST-MODIFIED:20250808T044444Z
UID:7356-1785407400-1785411000@bettinagoeschl.de
SUMMARY:Musikalische Lesung: Die Schiffsgeister
DESCRIPTION:Illustrationen von Franziska Harvey \nMusikalische Lesung mit Bettina Göschl für Kinder und Familien ab 6 Jahren aus der Buchreihe „Die Schiffsgeister“\, \nWann: 30.07.2026 um 10.30 Uhr \nWo: Kulturinsel Borkum\, Goethestraße 25\, 26757 Borkum \nTickets: € 2\,50
URL:https://bettinagoeschl.de/termin/musikalische-lesung-die-schiffsgeister/
LOCATION:Kulturinsel Borkum\, Goethestraße 25\, Borkum\, Niedersachsen\, 26757\, Deutschland
CATEGORIES:Lieder und Geschichten
ATTACH;FMTTYPE=image/jpeg:https://bettinagoeschl.de/wp-content/uploads/2024/11/die-schiffsgeister-die-geheimnisvolle-flasche-buch-scaled.jpg
END:VEVENT
BEGIN:VEVENT
DTSTART;TZID=Europe/Berlin:20260806T110000
DTEND;TZID=Europe/Berlin:20260806T120000
DTSTAMP:20260420T153757
CREATED:20251202T130619Z
LAST-MODIFIED:20251202T130619Z
UID:7713-1786014000-1786017600@bettinagoeschl.de
SUMMARY:Signierstunde bei Hugendubel
DESCRIPTION:Foto: Wolfgang Weßling \nBettina Göschl und Klaus-Peter Wolf signieren für Groß und Klein. \nWo: Buchhandlung Hugendubel\, Osterstraße 155\, 26506 Norden \nWann: Donnerstag\, 06. August 2026 von 11 bis 12 Uhr
URL:https://bettinagoeschl.de/termin/signierstunde-bei-hugendubel-2/
LOCATION:Buchhandlung Hugendubel Hasbargen\, Osterstraße 155\, Norden\, 26506
ATTACH;FMTTYPE=image/jpeg:https://bettinagoeschl.de/wp-content/uploads/2024/06/Klaus-Peter-Wolf-und-Bettina-Goeschl-4-Foto-Wolfgang-Wessling.jpg
END:VEVENT
BEGIN:VEVENT
DTSTART;TZID=Europe/Berlin:20260807T150000
DTEND;TZID=Europe/Berlin:20260807T160000
DTSTAMP:20260420T153757
CREATED:20241204T085720Z
LAST-MODIFIED:20251122T061244Z
UID:6859-1786114800-1786118400@bettinagoeschl.de
SUMMARY:Die Nordseedetektive/Die Schiffsgeister - Musikalische Lesung
DESCRIPTION:Illustration: Franziska Harvey \nBettina Göschl liest und singt aus  „Die Nordseedetektive“ und „Die Schiffsgeister“ für Familien ab 6 Jahren. Unterstützt wird sie dabei von Heinz Edzards am Bass. Im Anschluss können Bücher signiert werden. \nWann: Freitag\, 07. August 2026 um 15 Uhr \nWo: Kurtheater Norderney (Theatersaal) \nTickets gibt es unter https://www.norderney.de/eventtickets/musikalische-lesung-fur-kinder-mit-bettina-goschl-10053100998564004 \nEinlass und Tageskasse: 14.30 Uhr\nBeginn: 15 Uhr \nDauer: ca. 60 Min.\nAltersempfehlung: ab 6 Jahre \nBitte beachten Sie: Die Kategorie Balkon ist nicht barrierefrei.\nBitte beachten Sie außerdem: Bereits erworbene Tickets sind von Umtausch oder Rückgabe grundsätzlich ausgeschlossen.
URL:https://bettinagoeschl.de/termin/kinderveranstaltung-norderney-die-nordseedetektive-3/
LOCATION:Kurtheater Norderney\, Am Kurtheater 4\, Norderney\, Niedersachsen\, 26548\, Germany
CATEGORIES:Lieder und Geschichten
ATTACH;FMTTYPE=image/jpeg:https://bettinagoeschl.de/wp-content/uploads/2025/11/9783961295739_cmyk-scaled.jpg
END:VEVENT
BEGIN:VEVENT
DTSTART;TZID=Europe/Berlin:20260807T200000
DTEND;TZID=Europe/Berlin:20260807T220000
DTSTAMP:20260420T153757
CREATED:20260119T101009Z
LAST-MODIFIED:20260119T101009Z
UID:7809-1786132800-1786140000@bettinagoeschl.de
SUMMARY:Krimilesung Norderney
DESCRIPTION:Musikalische Begleitung Bettina Göschl und Heinz Edzards
URL:https://bettinagoeschl.de/termin/krimilesung-norderney/
LOCATION:Historisches Kurtheater\, Am Kurtheater 4\, Norderney\, 26548\, Deutschland
ATTACH;FMTTYPE=image/jpeg:https://bettinagoeschl.de/wp-content/uploads/2024/06/Klaus-Peter-Wolf-und-Bettina-Goeschl-4-Foto-Wolfgang-Wessling.jpg
END:VEVENT
BEGIN:VEVENT
DTSTART;TZID=Europe/Berlin:20260809T200000
DTEND;TZID=Europe/Berlin:20260809T220000
DTSTAMP:20260420T153757
CREATED:20250916T115724Z
LAST-MODIFIED:20250916T115724Z
UID:7524-1786305600-1786312800@bettinagoeschl.de
SUMMARY:Musikalische Krimilesung „Sommerfeldt solo“
DESCRIPTION:Musikalische Krimilesung „Sommerfeldt solo“; Musik: Bettina Göschl und Heinz Edzards \nWann:\nSonntag\, 09. August 2026\, 20 Uhr\, Einlass 19 Uhr \nWo:\nHaus des Gastes\, Strandstraße 1\, 26506 Norden \nEintritt:\n15\,- € \nVeranstalter:\nWirtschaftsbetriebe der Stadt Norden GmbH Tourismus-Service Norden-Norddeich\nDörper Weg 22\n26506 Norden-Norddeich \nÖffnungszeiten: Montag – Freitag: 09:00 – 17:00 Uhr\, Samstag: 10:00 – 15:00 Uhr\, Sonntag: 10:00 – 13:00 Uhr\nTelefon: (0 49 31) 986-200\nFax: (0 49 31) 986-290\nMail: info@‎norddeich.de \n 
URL:https://bettinagoeschl.de/termin/musikalische-krimilesung-sommerfeldt-solo/
LOCATION:Haus des Gastes\, Strandstraße 1\, Norden\, 26506\, Deutschland
ATTACH;FMTTYPE=image/jpeg:https://bettinagoeschl.de/wp-content/uploads/2024/06/Klaus-Peter-Wolf-und-Bettina-Goeschl-4-Foto-Wolfgang-Wessling.jpg
ORGANIZER;CN="Tourismus-Service Norden-Norddeich":MAILTO:info@norddeich.de
END:VEVENT
BEGIN:VEVENT
DTSTART;TZID=Europe/Berlin:20260814T200000
DTEND;TZID=Europe/Berlin:20260814T223000
DTSTAMP:20260420T153757
CREATED:20260119T101414Z
LAST-MODIFIED:20260119T101414Z
UID:7812-1786737600-1786746600@bettinagoeschl.de
SUMMARY:Krimilesung Schillig
DESCRIPTION:musikalische Begleitung Bettina Göschl und Heinz Edzards \n  \nTickets und Infos gibt es hier: https://www.wangerland.de/erlebnisse#/experience/GER00020063167011601
URL:https://bettinagoeschl.de/termin/krimilesung-schillig/
LOCATION:Circus AXO Strand Schillig\, Strand\, Schillig\, 26434
ATTACH;FMTTYPE=image/jpeg:https://bettinagoeschl.de/wp-content/uploads/2024/06/Klaus-Peter-Wolf-und-Bettina-Goeschl-4-Foto-Wolfgang-Wessling.jpg
END:VEVENT
BEGIN:VEVENT
DTSTART;TZID=Europe/Berlin:20260815T150000
DTEND;TZID=Europe/Berlin:20260815T160000
DTSTAMP:20260420T153757
CREATED:20251002T095110Z
LAST-MODIFIED:20251122T192357Z
UID:7604-1786806000-1786809600@bettinagoeschl.de
SUMMARY:Musikalische Lesung "Die Schiffsgeister - Der Zauberkrake"
DESCRIPTION:Illustration: Franziska Harvey \nMusikalische Lesung für Kinder und Familien\nDie Kinderbuchautorin und Liedermacherin Bettina Göschl entführt in ihrer musikalischen Lesung Klein und Groß in die magische Welt von Faugaz\, Fregaz\, Luna und Jonte.\n \nWann: Samstag\, 15. August 2026 um 15 Uhr\, Einlass: 14.30 \nWo: Circus Axo am Strand Schillig \nTickets unter: \nhttps://www.wangerland.de/erlebnisse#/experience/GER00020064065767511 \nVeranstalter: \nBücherei – Wangerland Touristik GmbHZum Hafen 326434 WangerlandTelefon: 04426-987180E-Mail: buecherei@wangerland.de \n  \n 
URL:https://bettinagoeschl.de/termin/musikalische-lesung-die-schiffsgeister-der-zauberkrake/
LOCATION:Circus Axo\, Schillinger Düne\, Wangerland Schillig\, Niedersachsen\, 26434\, Deutschland
CATEGORIES:Lieder und Geschichten
ATTACH;FMTTYPE=image/jpeg:https://bettinagoeschl.de/wp-content/uploads/2025/08/die-schiffsgeister-die-zauberkrake.jpg
END:VEVENT
BEGIN:VEVENT
DTSTART;TZID=Europe/Berlin:20260818T160000
DTEND;TZID=Europe/Berlin:20260818T180000
DTSTAMP:20260420T153757
CREATED:20250916T120256Z
LAST-MODIFIED:20250916T120256Z
UID:7531-1787068800-1787076000@bettinagoeschl.de
SUMMARY:Signierstunde mit Klaus-Peter Wolf und Bettina Göschl
DESCRIPTION:Signierstunde mit Klaus-Peter Wolf und Bettina Göschl \nWann:\nDienstag\, 18. August 2026\, 16 Uhr – 18 Uhr \nWo:\nKrimimuseum Norden\, Gewerbestraße 25\, 26506 Norden \nEintritt:\nfrei \nVeranstalter:\nWirtschaftsbetriebe der Stadt Norden GmbH Tourismus-Service Norden-Norddeich\nDörper Weg 22\n26506 Norden-Norddeich \nÖffnungszeiten: Montag – Freitag: 09:00 – 17:00 Uhr\, Samstag: 10:00 – 15:00 Uhr\,  Sonntag: 10:00 – 13:00 Uhr\nTelefon: (0 49 31) 986-200\nFax: (0 49 31) 986-290\nMail: info@‎norddeich.de
URL:https://bettinagoeschl.de/termin/signierstunde-mit-klaus-peter-wolf-und-bettina-goeschl-2/
LOCATION:Krimimuseum Norden\, Gewerbestraße 25\, Norden\, 26506
ATTACH;FMTTYPE=image/jpeg:https://bettinagoeschl.de/wp-content/uploads/2024/06/Klaus-Peter-Wolf-und-Bettina-Goeschl-4-Foto-Wolfgang-Wessling.jpg
ORGANIZER;CN="Tourismus-Service Norden-Norddeich":MAILTO:info@norddeich.de
END:VEVENT
BEGIN:VEVENT
DTSTART;TZID=Europe/Berlin:20260823T140000
DTEND;TZID=Europe/Berlin:20260823T150000
DTSTAMP:20260420T153757
CREATED:20260201T093257Z
LAST-MODIFIED:20260201T093257Z
UID:7861-1787493600-1787497200@bettinagoeschl.de
SUMMARY:Die Schiffsgeister - Lieder und Geschichten für Kinder und Familien
DESCRIPTION:Illustration: Franziska Harvey \nMit ihrer Gitarre Gitti ist Bettina Göschl zu Gast  beim 33. Hafenfest in Wittenberge. Mit dabei sind Lieder und Geschichten rund um die beiden Schiffsgeister Fregaz und Faugaz und zünftigen Piraten zum Zuhören\,  Mitmachen und Mitsingen. \nWann: Sonntag\, 23. August 2026 von 14.00 bis 15.00 Uhr. Im Anschluss signiert Bettina Göschl Bücher und CD. \nWo: Nedwighafen Wittenberge \nVeranstalter: Tourismusbetrieb Wittenberge
URL:https://bettinagoeschl.de/termin/die-schiffsgeister-lieder-und-geschichten-fuer-kinder-und-familien/
LOCATION:Nedwighafen Wittenberge\, Wittenberge\, 19322\, Germany
CATEGORIES:Lieder und Geschichten
ATTACH;FMTTYPE=image/jpeg:https://bettinagoeschl.de/wp-content/uploads/2024/11/die-schiffsgeister-die-geheimnisvolle-flasche-buch-scaled.jpg
END:VEVENT
BEGIN:VEVENT
DTSTART;TZID=Europe/Berlin:20260828T193000
DTEND;TZID=Europe/Berlin:20260828T213000
DTSTAMP:20260420T153757
CREATED:20260119T101556Z
LAST-MODIFIED:20260119T101556Z
UID:7815-1787945400-1787952600@bettinagoeschl.de
SUMMARY:Krimilesung Esens
DESCRIPTION:musikalische Begleitung Bettina Göschl und Heinz Edzards \nBeginn 19.30 Uhr\, Einlass ab 18.00 Uhr \nDetails folgen
URL:https://bettinagoeschl.de/termin/krimilesung-esens/
LOCATION:St. Magnus Kirche\, Kirchplatz\, Esens\, 26427\, Deutschland
ATTACH;FMTTYPE=image/jpeg:https://bettinagoeschl.de/wp-content/uploads/2024/06/Klaus-Peter-Wolf-und-Bettina-Goeschl-4-Foto-Wolfgang-Wessling.jpg
END:VEVENT
BEGIN:VEVENT
DTSTART;TZID=Europe/Berlin:20260902T180000
DTEND;TZID=Europe/Berlin:20260902T200000
DTSTAMP:20260420T153757
CREATED:20260119T101809Z
LAST-MODIFIED:20260119T101809Z
UID:7817-1788372000-1788379200@bettinagoeschl.de
SUMMARY:Krimilesung Bensersiel
DESCRIPTION:musikalische Begleitung Bettina Göschl
URL:https://bettinagoeschl.de/termin/krimilesung-bensersiel/
LOCATION:Strandportal\, Veranstaltungshalle\, Am Strand 8\, Bensersiel\, 26427
ATTACH;FMTTYPE=image/jpeg:https://bettinagoeschl.de/wp-content/uploads/2024/06/Klaus-Peter-Wolf-und-Bettina-Goeschl-4-Foto-Wolfgang-Wessling.jpg
END:VEVENT
END:VCALENDAR